BEGIN:VCALENDAR
VERSION:2.0
PRODID:spatie/icalendar-generator
DESCRIPTION:Events from 
X-WR-CALDESC:Events from 
REFRESH-INTERVAL;VALUE=DURATION:PT1440M
X-PUBLISHED-TTL:PT1440M
BEGIN:VTIMEZONE
TZID:Etc/GMT+0
BEGIN:STANDARD
DTSTART:20240730T200000Z
TZOFFSETFROM:+0000
TZOFFSETTO:+0000
END:STANDARD
END:VTIMEZONE
BEGIN:VTIMEZONE
TZID:UTC
BEGIN:STANDARD
DTSTART:20250723T204644Z
TZOFFSETFROM:+0000
TZOFFSETTO:+0000
END:STANDARD
END:VTIMEZONE
BEGIN:VEVENT
UID:2-2
DTSTAMP:20260419T204644Z
SUMMARY:Heath Whittington
LOCATION:
ORGANIZER;CN=lsjlodgeadmin:MAILTO:rbook101@bellsouth.net
DTSTART;TZID=Etc/GMT+0:20250426T200000
DTEND;TZID=Etc/GMT+0:20250426T230000
X-ALT-DESC;FMTTYPE=TEXT/HTML:
CATEGORIES:General
URL;VALUE=URI:https://lsjlodge.com/mc-events/heath-whittington/
METHOD:PUBLISH
END:VEVENT
END:VCALENDAR