BEGIN:VCALENDAR
VERSION:2.0
PRODID:spatie/icalendar-generator
DESCRIPTION:Events from 
X-WR-CALDESC:Events from 
REFRESH-INTERVAL;VALUE=DURATION:PT1440M
X-PUBLISHED-TTL:PT1440M
BEGIN:VTIMEZONE
TZID:Etc/GMT+0
BEGIN:STANDARD
DTSTART:20240826T200000Z
TZOFFSETFROM:+0000
TZOFFSETTO:+0000
END:STANDARD
END:VTIMEZONE
BEGIN:VTIMEZONE
TZID:UTC
BEGIN:STANDARD
DTSTART:20250723T190128Z
TZOFFSETFROM:+0000
TZOFFSETTO:+0000
END:STANDARD
END:VTIMEZONE
BEGIN:VEVENT
UID:3-3
DTSTAMP:20260419T190128Z
SUMMARY:Bryce McGlothin
LOCATION:
ORGANIZER;CN=lsjlodgeadmin:MAILTO:rbook101@bellsouth.net
DTSTART;TZID=Etc/GMT+0:20250523T200000
DTEND;TZID=Etc/GMT+0:20250523T230000
X-ALT-DESC;FMTTYPE=TEXT/HTML:
CATEGORIES:General
URL;VALUE=URI:https://lsjlodge.com/mc-events/bryce-mcglothin/
METHOD:PUBLISH
END:VEVENT
END:VCALENDAR