BEGIN:VCALENDAR
VERSION:2.0
PRODID:spatie/icalendar-generator
DESCRIPTION:Events from 
X-WR-CALDESC:Events from 
REFRESH-INTERVAL;VALUE=DURATION:PT1440M
X-PUBLISHED-TTL:PT1440M
BEGIN:VTIMEZONE
TZID:Etc/GMT+0
BEGIN:STANDARD
DTSTART:20240827T000000Z
TZOFFSETFROM:+0000
TZOFFSETTO:+0000
END:STANDARD
END:VTIMEZONE
BEGIN:VTIMEZONE
TZID:UTC
BEGIN:STANDARD
DTSTART:20250723T171346Z
TZOFFSETFROM:+0000
TZOFFSETTO:+0000
END:STANDARD
END:VTIMEZONE
BEGIN:VEVENT
UID:4-4
DTSTAMP:20260419T171346Z
SUMMARY:LSJ POKER RUN
LOCATION:
ORGANIZER;CN=lsjlodgeadmin:MAILTO:rbook101@bellsouth.net
DTSTART;TZID=Etc/GMT+0;VALUE=DATE:20250524
DTEND;TZID=Etc/GMT+0;VALUE=DATE:20250525
X-ALT-DESC;FMTTYPE=TEXT/HTML:
CATEGORIES:General
URL;VALUE=URI:https://lsjlodge.com/mc-events/lsj-poker-run/
METHOD:PUBLISH
END:VEVENT
END:VCALENDAR